BEGIN:VCALENDAR
VERSION:2.0
METHOD:PUBLISH
BEGIN:VEVENT
UID:WILD_APRICOT_EVENT_909596_SESSION_1
DTSTART:20140705T080000Z
DTEND:20140705T123000Z
SUMMARY:2014 AGM & Awards Dinner
LOCATION:The Vine\, 59 Wellington St\, Collingwood
DESCRIPTION:https://melbourneargonauts.com.au/event-909596\n\n\nANNUAL GENERAL MEETING\n  The Melbourne Argonauts Queer Rowing Club Annual General Meeting will commence at 6pm on Saturday July 5. Come along to hear reports from our club's office holder on the club's activities and a review of the club's accounts. If you are interested in signing up for the committee please contact the Dahni\, the club Secretary to obtain a nomination form or click here to download a form.\n__________________________________________________________  \nANNUAL DINNER AND AWARDS NIGHT\n   \n   It's that time of year when you dust off your best outfit and prepare for the glamour and glitz of the Argonauts'  Annual Dinner and Awards Night. Celebrate our club and its achievements\, cry at the Annual Year of Review\, congratulate our award winners\, wonder who's wearing the best shoes - it's the night of nights in the queer social calendar that you can't miss.\n\n An AGM only option is available for those not wishing to stay for dinner.\n \n Don't forget\, our club is about participation\, not limitation!\n So if finances are an issue\, please contact our equity committee.\n  \nLocation:\n  The Vine Hotel\n  59 Wellington St\, Collingwood\n  Queries or concerns?\n  Contact Lil Tosto\n\n  \n  \n
DTSTAMP:20260424T163215Z
END:VEVENT
END:VCALENDAR
