BEGIN:VCALENDAR
VERSION:2.0
METHOD:PUBLISH
BEGIN:VEVENT
UID:WILD_APRICOT_EVENT_906512_SESSION_1
DTSTART:20140522T093000Z
DTEND:20140710T103000Z
SUMMARY:Winter Ergfit classes
LOCATION:Ergfit 44 The Blvd\, Moonee Ponds VIC 3039
DESCRIPTION:https://melbourneargonauts.com.au/event-906512\n\n\nWinter fun & preparation for WORLD  Rowing Masters!!!\n     \n   \nStarting on Thurs 22 May\, Scott will help to guide us through the leg burn as well as mixing it up with some boxing moves.\n     For anyone who is not familiar with ergfit\, it is a group erg training & fitness class.      Think spin class\, but on an erg!      \n      This is an 8 week course which will help you keep your thighs strong & your mind focused as the winter chills come rolling in.      \n      Have a look at       http://www.ergfit.com.au/\n      to see what the fun is all about.      \n      8 sessions for $132.      Only 13 seats available.      \n      Registrations close Monday 19th May!      \n      Any questions\, please contact Lil      l.tosto@hotmail.com 
DTSTAMP:20260424T180552Z
END:VEVENT
END:VCALENDAR
