BEGIN:VCALENDAR
VERSION:2.0
METHOD:PUBLISH
BEGIN:VEVENT
UID:WILD_APRICOT_EVENT_876570_SESSION_1
DTSTART:20140405T023000Z
DTEND:20140405T043000Z
SUMMARY:Capsize Drill
LOCATION:Richmond Recreation Centre Gleadell Street Richmond
DESCRIPTION:https://melbourneargonauts.com.au/event-876570\n\n\nCapsIze Drill\n  The capsize drill is a safety requirement for all Argonaut Members and Rowing Victoria.  An accredited coach will provide training on how to get back into a boat if you capsize.  You will then have to demonstrate to the coach that you are able to get back into a boat after you have capsized.\n  If you don not complete the capsize drill you will be required to wear life jackets while rowing!\n
DTSTAMP:20260424T172449Z
END:VEVENT
END:VCALENDAR
