BEGIN:VCALENDAR
VERSION:2.0
METHOD:PUBLISH
BEGIN:VEVENT
UID:WILD_APRICOT_EVENT_849632_SESSION_1
DTSTART:20141003T140000Z
DTEND:20141005T140000Z
SUMMARY:Learn to Row (October 2014)
LOCATION:The Tank (Saturday) & Albert Park Lake (Sunday)
DESCRIPTION:https://melbourneargonauts.com.au/event-849632\n\n\nRegistration\n  To book and pay click on the 'Register' button below.\n  \nMore Information\n  The Melbourne Argonauts runs several Introduction to Rowing Programs throughout the year.\n  The structured program consists of two sessions running over a weekend\, where you will receive an introduction to this fabulous sport. The first session is held indoors where we will teach you the rowing movements and terminology\, while the second session is on-water. Once you graduate\, you will be given a four week training membership entitling you to attend weekly training sessions one evening per week and Saturday morning social sessions where you can really get a feel for the club and the sport.\n  The Introduction to Rowing Program cost $160 per person\n    For further information please email: ltr@melbourneargonauts.com.au\n  Note: Places are limited so booking are essential.\n  \nMap to Tank & Shed\n  \n View Melbourne Argonauts Rowing Club in a larger map\n\n
DTSTAMP:20260424T165904Z
END:VEVENT
END:VCALENDAR
