BEGIN:VCALENDAR
VERSION:2.0
METHOD:PUBLISH
BEGIN:VEVENT
UID:WILD_APRICOT_EVENT_835719_SESSION_1
DTSTART:20150130T213000Z
DTEND:20150131T020000Z
SUMMARY:Team Melbourne Midsumma Sports Day
LOCATION:Victoria University\, Footscray Park. Maribyrnong Blvd\, Footscray
DESCRIPTION:https://melbourneargonauts.com.au/event-835719\n\nMidsumma will be holding their annual sports day next to Maribyrnong river this year!!!.\n \n \n The Argonauts plan to be present\, show off their skills & hopefully entice a few members of our community to sign up & jump in.\n \n We will need volunteers on the day to coordinate\, row\, cox & coach.\n \n Further information can be found at\n http://www.teammelbourne.org.au/Sports/MidsummaSportsDay.aspx\n \n Please contact Tim Hewitson with any queries or concerns.\n View Larger Map\n
DTSTAMP:20260424T165154Z
END:VEVENT
END:VCALENDAR
