BEGIN:VCALENDAR
VERSION:2.0
METHOD:PUBLISH
BEGIN:VEVENT
UID:WILD_APRICOT_EVENT_772237_SESSION_1
DTSTART:20131122T214500Z
DTEND:20131122T214500Z
SUMMARY:Saturday Morning Social Row
LOCATION:The Sheds\, followed by breakfast at the great provider
DESCRIPTION:https://melbourneargonauts.com.au/event-772237\n\n\n  \nSocial Rowing!!\n  Come down for a natter & a paddle about the lake.\n\n  The host of the morning is Chris Thomas.\n  Please be on time\, to facilitate boat allocations for the morning.\n  Following the row\, reload your carbs with breakfast at the great provider.\n\n  \n View Larger Map\n\n
DTSTAMP:20260424T163350Z
END:VEVENT
END:VCALENDAR
