BEGIN:VCALENDAR
VERSION:2.0
METHOD:PUBLISH
BEGIN:VEVENT
UID:WILD_APRICOT_EVENT_760548_SESSION_1
DTSTART:20140110T130000Z
DTEND:20140112T130000Z
SUMMARY:MRA & Rutherglen Regatta [CLUB]
LOCATION:Lake Moodemere\, Rutherglen
DESCRIPTION:https://melbourneargonauts.com.au/event-760548\n\n\nRegistering for a Regatta [Members Only]\n      * Review 'Get Regatta Ready' \n\n        * Let the Captain know that you would like to enter.  The Captain will coordinate boats and equipment\n\n        * Pay your Regatta Fees. Pay your Oar (per event) and Transport fees by registering for this event\n\n   Note: You will not entered until the Regatta Fees are paid for your whole crew.\n  If you have any questions contact the Regatta Secretary or the Captain.\n  \nLocation for members & supporters\n     \n   View Melbourne Argonauts Rowing Club in a larger map\n 
DTSTAMP:20260424T163525Z
END:VEVENT
END:VCALENDAR
