BEGIN:VCALENDAR
VERSION:2.0
METHOD:PUBLISH
BEGIN:VEVENT
UID:WILD_APRICOT_EVENT_758537_SESSION_1
DTSTART:20140312T090000Z
DTEND:20140312T090000Z
SUMMARY:Argo Connect
LOCATION:Hares & Hyenas\, 63 Johnston st\, Fitzroy
DESCRIPTION:https://melbourneargonauts.com.au/event-758537\n\n\nConnecting to Masters\n\n It is again time to look at the upcoming masters season.\n \n \n The March Argo Connect will help us all\n ReCONNECT\, especially those of us with a few more grey hairs....     ahem\n   Come and catch up with your committee members and your coaches.\n   \n   Time to figure out what this Masters season has in store for us!!!!\n   \n        If you would like to add anything to the agenda please contact Lil Tosto\n   \n  \n \n  \n********UPDATE******\n            Hares & Hyenas will be hosting us fine Argonauts\, but as they don't serve dinner\, please come prefed\, but with room for cakes\, coffee & maybe a drink or two.   \n  \n\n
DTSTAMP:20260424T163249Z
END:VEVENT
END:VCALENDAR
