BEGIN:VCALENDAR
VERSION:2.0
METHOD:PUBLISH
BEGIN:VEVENT
UID:WILD_APRICOT_EVENT_758531_SESSION_1
DTSTART:20141212T213000Z
DTEND:20141212T230000Z
SUMMARY:2014 Argo Christmas Regatta
LOCATION:Albert Park Lark\, Argos sheds
DESCRIPTION:https://melbourneargonauts.com.au/event-758531\n\n\nArgo Christmas Regattaette\n  Time to celebrate the year that we have had\, the season that we are in the middle of & the wonderful times that are on our horizon.\n  This year we will be holding a mini regatta from the St Kilda end of the lake to the pontoon\, similar to that at the end of the LTR. \n  Each person who registers\, will be drawn from a hat on the morning of the event to form a crew and prizes will be given for first across the line and also best dressed christmas rowing gear - to be awarded by the Dowager \n  Make sure you register by Wednesday 10th Dec. Breakfast will follow at the great provided as usual \n  \n\n  \n\n
DTSTAMP:20260424T184642Z
END:VEVENT
END:VCALENDAR
