BEGIN:VCALENDAR
VERSION:2.0
METHOD:PUBLISH
BEGIN:VEVENT
UID:WILD_APRICOT_EVENT_717685_SESSION_1
DTSTART:20130802T090000Z
DTEND:20130804T050000Z
SUMMARY:Camp Camp 2013
LOCATION:Nagambie
DESCRIPTION:https://melbourneargonauts.com.au/event-717685\n\n   \n   \n\n  Argonauts Members: $180\n Other Rowing Club Members: $210\n Non-Rowing participants: $170\n
DTSTAMP:20260424T194054Z
END:VEVENT
END:VCALENDAR
