BEGIN:VCALENDAR
VERSION:2.0
METHOD:PUBLISH
BEGIN:VEVENT
UID:WILD_APRICOT_EVENT_595671_SESSION_1
DTSTART:20130118T223000Z
DTEND:20130119T020000Z
SUMMARY:Team Melbourne Midsumma Sports Day
LOCATION:Victoria University\, Footscray Park. Maribyrnong Blvd\, Footscray
DESCRIPTION:https://melbourneargonauts.com.au/event-595671\n\nMidsumma will be holding their annual sports day next to Maribyrnong river this year!!!.\n \n \n The Argonauts plan to be present\, show off their skills & hopefully entice a few members of our community to sign up & jump in.\n \n We will need volunteers on the day to coordinate\, row\, cox & coach.\n \n Further information can be found at\n http://www.midsumma.org.au/event/team-melbourne-midsumma-sports\n \n Please contact Tim Hewitson with any queries or concerns.\n View Larger Map\n
DTSTAMP:20260424T172056Z
END:VEVENT
END:VCALENDAR
