BEGIN:VCALENDAR
VERSION:2.0
METHOD:PUBLISH
BEGIN:VEVENT
UID:WILD_APRICOT_EVENT_545020_SESSION_1
DTSTART:20130730T140000Z
DTEND:20130811T140000Z
SUMMARY:World Outgames Antwerp 2013 Culture Program
LOCATION:Antwerp\, Belgium
DESCRIPTION:https://melbourneargonauts.com.au/event-545020\n\n\n\n  \nExperience 12 days of Love United\n  \n\n\n  \nSports Program: 4 August 2013 till 10 August 2013\n  \nCulture Program: 31 July 2013 till 11 August 2013\n\nAntwerp ... city of 172 nationalities\, fashion\, diamonds and gay nightlife invites you to the 3rd World Outgames in 2013.\n \n Along with challenging each participant to excel in sports and culture\, World Outgames aims to boost acceptance and integration of lesbians\, gays\, bisexuals\,transgender\, queer and questioning people (LGBTQ) by and into our society.\n \n Do you want to experience World Outgames differently and help us as a volunteer to make it a huge success? We need you! Please send an email to volunteer@woga2013.org.\n \n See you soon and Love United!\n  \nLinks:\nWorld Outgames Antwerp 2013 Website\n World Outgames Antwerp 2013 Rowing\n World Outgames Antwerp 2013 Registration\n
DTSTAMP:20260424T190438Z
END:VEVENT
END:VCALENDAR
