BEGIN:VCALENDAR
VERSION:2.0
METHOD:PUBLISH
BEGIN:VEVENT
UID:WILD_APRICOT_EVENT_545006_SESSION_1
DTSTART:20141205T083000Z
DTEND:20141205T123000Z
SUMMARY:2014 Melbourne Sports teams Christmas Party
LOCATION:Back Bar\, Chapel Street Windsor
DESCRIPTION:https://melbourneargonauts.com.au/event-545006\n\nThis Christmas in association with VicTennis and the Melbourne Charges\, we will be having a combined Christmas gathering/celebration on Friday 5th December at Back Bar on Chapel Street Windsor from 7:30pm   Food/nibblies will provided and drinks are at bar prices \n  \n\n  So come along and celebrate the year we've had and also meet some of the other Gay sporting teams in Melbourne \n  \n\n  Please register to confirm your attendance for catering purposes by Friday 28th November. \n  \n\n\n  \n\n
DTSTAMP:20260424T163224Z
END:VEVENT
END:VCALENDAR
