BEGIN:VCALENDAR
VERSION:2.0
METHOD:PUBLISH
BEGIN:VEVENT
UID:WILD_APRICOT_EVENT_537459_SESSION_1
DTSTART:20130313T130000Z
DTEND:20130324T130000Z
SUMMARY:23rd Melbourne Queer Film Festival (2013)
LOCATION:Melbourne\, Victoria
DESCRIPTION:https://melbourneargonauts.com.au/event-537459\n\n   \n   \n         For more information\, go to the Melbourne Queer Film Festival website: www.mqff.com.au\n            \n    
DTSTAMP:20260424T183538Z
END:VEVENT
END:VCALENDAR
