BEGIN:VCALENDAR
VERSION:2.0
METHOD:PUBLISH
BEGIN:VEVENT
UID:WILD_APRICOT_EVENT_537455_SESSION_1
DTSTART:20150117T130000Z
DTEND:20150118T130000Z
SUMMARY:Midsumma Carnival Day 2015
LOCATION:Melbourne\, Victoria
DESCRIPTION:https://melbourneargonauts.com.au/event-537455\n\n   \n More Information at: www.midsumma.org.au\n \n Midsumma\, Melbourne's annual Queer Celebration\, is a federation of arts and cultural events spread over different venues throughout Melbourne. The festival is presented over three weeks from mid January to February and\, having been held annually since 1988\, is a significant attraction on the Melbourne festival calendar.  Carnival Day on January 18th 2015 will see 'Alexandra Gardens transformed into the queerest party in town'\n  This year\, as we are not away competing in Rutherglen\, we will be holding a stall throughout the day. \n  More details to come closer to the event. \n  \n\n
DTSTAMP:20260424T165523Z
END:VEVENT
END:VCALENDAR
