BEGIN:VCALENDAR
VERSION:2.0
METHOD:PUBLISH
BEGIN:VEVENT
UID:WILD_APRICOT_EVENT_520467_SESSION_1
DTSTART:20121026T130000Z
DTEND:20121027T130000Z
SUMMARY:Head of the Goulburn [CLUB]
LOCATION:Goulburn River\, Nagambie
DESCRIPTION:https://melbourneargonauts.com.au/event-520467\n\n\nRegistering for a Regatta [Members Only]\n      * Review 'Get Regatta Ready' \n\n        * Let the Captain know that you would like to enter.  The Captain will coordinate boats and equipment\n\n        * Regatta Fees: Pay your Oar (per event) and Transport fees by registering for this event\n\n   \n\n  If you have any questions contact the Regatta Secretary or the Captain.\n
DTSTAMP:20260424T185402Z
END:VEVENT
END:VCALENDAR
