BEGIN:VCALENDAR
VERSION:2.0
METHOD:PUBLISH
BEGIN:VEVENT
UID:WILD_APRICOT_EVENT_519936_SESSION_1
DTSTART:20130317T130000Z
DTEND:20130324T130000Z
SUMMARY:Sydney International Rowing Regatta
LOCATION:Sydney International Regatta Centre - Penrith\, NSW
DESCRIPTION:https://melbourneargonauts.com.au/event-519936\n\nFor more information:\n \n www.rowingdownunder.org\n \n Monday 18 March – Thursday 21 March\n      * Australian Open Rowing Championships (heats and repêchage)\n\n        * Australia Open Schools Rowing Championships (heats and repêchage)\n\n\n Friday 22 March\n      * Samsung World Rowing Cup (heats)\n\n        * Australian Open Rowing Championships (repêchage and finals)\n\n        * Australia Open Schools Rowing Championships (repêchage and finals)\n\n\n Saturday 23 March\n      * King’s and Queen’s Cup Interstate Regatta\n\n        * Australia Open Schools Rowing Championships (repêchage and finals)\n\n        * Samsung World Rowing Cup (repêchage)\n\n\n Sunday 24 March\n      * Samsung World Rowing Cup Finals\n\n        * Australia Open Schools Rowing Championships Finals\n\n
DTSTAMP:20260424T184931Z
END:VEVENT
END:VCALENDAR
