BEGIN:VCALENDAR
VERSION:2.0
METHOD:PUBLISH
BEGIN:VEVENT
UID:WILD_APRICOT_EVENT_519509_SESSION_1
DTSTART:20121005T140000Z
DTEND:20121006T140000Z
SUMMARY:RFDS Murray River Rowathon
LOCATION:Murray River nr. Robinvale\, Vic
DESCRIPTION:https://melbourneargonauts.com.au/event-519509\n\n\nThe Royal Flying Doctor Service Murray/Darling River Rowathon\n  82K In A Day\, and all for a good cause!\n\nhttp://www.murrayrowathon.com/\n  \nRegistering for a Regatta [Members Only]\n      * Go to http://www.murrayrowathon.com/ for the latest info.\n\n        * Review 'Get Regatta Ready' \n\n        * Let the Captain know that you would like to enter.  The Captain will coordinate boats and equipment\n\n        * Pay your Regatta Fees. Pay your Oar (per event) and Transport fees by registering for this event\n\n   If you have any questions contact the Regatta Secretary or the Captain.\n  \nLocation for members and supporters\n  \n View Larger Map\n\n
DTSTAMP:20260424T183713Z
END:VEVENT
END:VCALENDAR
