BEGIN:VCALENDAR
VERSION:2.0
METHOD:PUBLISH
BEGIN:VEVENT
UID:WILD_APRICOT_EVENT_519507_SESSION_1
DTSTART:20120901T140000Z
DTEND:20120902T140000Z
SUMMARY:Bainsdale Sprint Regatta
LOCATION:Mitchell River\, Bainsdale
DESCRIPTION:https://melbourneargonauts.com.au/event-519507\n\n\nRegistering for a Regatta [Members Only]\n      * Review 'Get Regatta Ready' \n\n        * Let the Captain know that you would like to enter.  The Captain will coordinate boats and equipment\n\n        * Pay your Regatta Fees. Pay your Oar (per event) and Transport fees by registering for this event\n\n   Note: You will not entered until the Regatta Fees are paid for your whole crew.\n  If you have any questions contact the Regatta Secretary or the Captain.\n  \nLocation for members & supporters\n\n View Larger Map\n
DTSTAMP:20260424T170839Z
END:VEVENT
END:VCALENDAR
