BEGIN:VCALENDAR
VERSION:2.0
METHOD:PUBLISH
BEGIN:VEVENT
UID:WILD_APRICOT_EVENT_518907_SESSION_1
DTSTART:20120801T230000Z
DTEND:20120802T003000Z
SUMMARY:Boat Race Official (BRO) Level 1 Training
LOCATION:APSM RC\, Aughtie Drive\, Plant Williamson Rowing Pavilion\, Albert Park Lake VIC 3206 (opposite MSAC)
DESCRIPTION:https://melbourneargonauts.com.au/event-518907\n\n[Details TBC]\n\n  \n\n  Rowing Victoria (RV) are hosting an opportunity to renew your Boat Race Official (BRO) Level 1 training:\n  To Register:\n      * Check the details and register via the [TBC]\n\n        * Let us know and record your attendance by registering [TBC]\n\n\n   A reminder that the Argonauts require all rowing members to complete the course and if possible attain their accreditation. \n  Completing you BRO course is an excellent opportunity to learn more about the role of Umpires and the rules that govern competition in our sport.\n  
DTSTAMP:20260424T172332Z
END:VEVENT
END:VCALENDAR
