BEGIN:VCALENDAR
VERSION:2.0
METHOD:PUBLISH
BEGIN:VEVENT
UID:WILD_APRICOT_EVENT_518906_SESSION_1
DTSTART:20120726T090000Z
DTEND:20120726T103000Z
SUMMARY:Level 1 Coxswain Course
LOCATION:APSM Rowing Club\, Aughtie Drive\, Plant Williamson Rowing Pavilion\, Albert Park Lake VIC 3206 (opposite MSAC)
DESCRIPTION:https://melbourneargonauts.com.au/event-518906\n\n\nRegistration is via Rowing Victoria\n  To register you must complete this short enrolment form.\n\n  \nCost: $44\n  Once completed\, you will be redirected to PayPal where you are required to pay for the course using either your credit card or PayPal account\, you may also print a receipt.\n \n You will be contacted by Rowing Victoria by email with additional course information prior to the course date.\n\n  If you have any queries please do not hesitate to contact Tim Murdoch.\n\n
DTSTAMP:20260424T170124Z
END:VEVENT
END:VCALENDAR
