BEGIN:VCALENDAR
VERSION:2.0
METHOD:PUBLISH
BEGIN:VEVENT
UID:WILD_APRICOT_EVENT_482209_SESSION_1
DTSTART:20120417T081500Z
DTEND:20120417T093000Z
SUMMARY:Twilight Training - 17/04/2012
LOCATION:The Shed\, Lord Somers & Power House Function Centre\, 34 Lakeside Drive Albert Park Reserve\, VIC 3206
DESCRIPTION:https://melbourneargonauts.com.au/event-482209\n\n\nTwilight Training\n     The aim of Twilight Training is to give everyone access to a coached training session at least once a week\, with emphasis on technique and club development.      \n      We ask members to pre-register to give the coaches an opportunity to plan ahead of the session\, organise the crews and plan for a more tailored training experience to get the most out of the time available.      \n      Registration closes at 6pm on Monday.   Please be at the shed\, changed and ready to warm up at 6:15pm. The aim is to be on the water and pushing off by 6:30pm.\n  \nWhat happens if the weather is looking bad?\n     Sessions will go on regardless and will move indoors on to the ergos in the event of bad weather.   \nWhere can I check for any last minute changes?\n     Check the message board before you leave for the shed to check for any last minute changes. 
DTSTAMP:20260424T184804Z
END:VEVENT
END:VCALENDAR
