BEGIN:VCALENDAR
VERSION:2.0
METHOD:PUBLISH
BEGIN:VEVENT
UID:WILD_APRICOT_EVENT_370039_SESSION_1
DTSTART:20120901T083000Z
DTEND:20120901T120000Z
SUMMARY:Trivia Night 2012
LOCATION:St Kilda Town Hall\, 99A Carlisle St\, St Kilda (cnr. Carlisle St & Brighton Road (St. Kilda Road))
DESCRIPTION:https://melbourneargonauts.com.au/event-370039\n\n\n\n      The Melbourne Argonauts Queer Rowing Club (MAQRC) is hosting its annual fundraising Trivia Night at St. Kilda Town Hall.\n  \nBooking\n  Hit the 'Register' button on the left of the screen and follow the prompts to book.\n  Let us know the size of your group (1 - 100) and we will book you a table(s). \n  \nWhen do I pay?\n  Just turn up and pay your $25.00 cash per person on the night (your confirmation email is your ticket).  Forward the email to your guests so we can send them to the right table.\n  As well as the main trivia night (hosted by our very own Brian Barry) there will be spot prizes\, games and a silent auction.\n  \nFood & Drink\n  It is BYO finger food (there is the Presidents Prize for the best platter). \n  A cash bar is available\, so no BYO alcohol/drinks please. Free water will be provided.\n      
DTSTAMP:20260424T170039Z
END:VEVENT
END:VCALENDAR
