BEGIN:VCALENDAR
VERSION:2.0
METHOD:PUBLISH
BEGIN:VEVENT
UID:WILD_APRICOT_EVENT_370028_SESSION_1
DTSTART:20120524T140000Z
DTEND:20120525T140000Z
SUMMARY:Australian Masters Rowing Championships (Friday)
LOCATION:Lake Wendouree\, Ballarat
DESCRIPTION:https://melbourneargonauts.com.au/event-370028\n\n\nRegistering for a Regatta [Members Only]\n      * Review 'Get Regatta Ready' \n\n        * Let the Captain know that you would like to enter.  The Captain will coordinate boats and equipment\n\n        * Regatta Fees: Pay your Oar (per event) and Transport fees by registering for this event\n\n   Note: You will not entered until the Regatta Fees for your WHOLE crew are paid.\n  If you have any questions contact the Regatta Secretary or the Captain.\n  \nLocation for members & supporters\n  \n View Melbourne Argonauts Rowing Club in a larger map\n
DTSTAMP:20260424T170029Z
END:VEVENT
END:VCALENDAR
