BEGIN:VCALENDAR
VERSION:2.0
METHOD:PUBLISH
BEGIN:VEVENT
UID:WILD_APRICOT_EVENT_369996_SESSION_1
DTSTART:20120205T010000Z
DTEND:20120205T010000Z
SUMMARY:The 16th Annual Pride March (2012)
LOCATION:Catani Gardens\, Beaconsfield Parade\, St Kilda
DESCRIPTION:https://melbourneargonauts.com.au/event-369996\n\nPride March Victoria\, proud member of the global Interpride\, presents the annual Pride March with 2011’s theme – Pride Around the World.\n  \n Following the march down Fitzroy St\, celebrations in Catani Gardens will feature the Skinovate Karaoake Stage\, the Gaydar.com.au Main Stage and the MCV Community Village and Entertainment Stage. We will also showcase the inaugural King and Queen of Pride – so dress to impress on the 2011 theme. Pride March Victoria is proud to recognise the involvement of the Victoria Police and Chief Commissioner of Police\, Mr. Simon Overland\, who will once again be one of the speakers on the Gaydar.com.au Main Stage.\n  \n Pride March Victoria is a free event which recognises and celebrates the people and events that inspire the courage\, solidarity\, pride\, diversity and strong sense of community of Victoria’s GLBTIQ people and our supporters.\n  \n Please note this year Pride March Victoria’s celebrations in Catani Gardens is a no BYO event.\n\n  Venue: Catani Gardens\n When: Sun 6 Feb\, Assemble - 12pm\, March - 2pm\n Price: Free\n Info: www.pridemarch.com.au\n\n
DTSTAMP:20260424T172236Z
END:VEVENT
END:VCALENDAR
