BEGIN:VCALENDAR
VERSION:2.0
METHOD:PUBLISH
BEGIN:VEVENT
UID:WILD_APRICOT_EVENT_369995_SESSION_1
DTSTART:20120114T130000Z
DTEND:20120205T130000Z
SUMMARY:Midsumma 2012
LOCATION:Melbourne
DESCRIPTION:https://melbourneargonauts.com.au/event-369995\n\nMidsumma\, Melbourne's annual Queer Celebration\, is a federation of arts and cultural events spread over 70 different venues throughout Melbourne. The festival is presented over three weeks from mid January to February and\, having been held annually since 1988\, is a significant attraction on the Melbourne festival calendar.\n  [More Info...]\n
DTSTAMP:20260424T170019Z
END:VEVENT
END:VCALENDAR
