BEGIN:VCALENDAR
VERSION:2.0
METHOD:PUBLISH
BEGIN:VEVENT
UID:WILD_APRICOT_EVENT_369631_SESSION_1
DTSTART:20111029T130000Z
DTEND:20111030T130000Z
SUMMARY:Boat Race- MUBC v SUBC
LOCATION:Yarra River\, Melbourne
DESCRIPTION:https://melbourneargonauts.com.au/event-369631\n\nDetails: www.rowingvictoria.asn.au or ROMS\n
DTSTAMP:20260424T170008Z
END:VEVENT
END:VCALENDAR
