BEGIN:VCALENDAR
VERSION:2.0
METHOD:PUBLISH
BEGIN:VEVENT
UID:WILD_APRICOT_EVENT_353059_SESSION_1
DTSTART:20111118T130000Z
DTEND:20111126T130000Z
SUMMARY:Melbourne Rowing Week
LOCATION:Various
DESCRIPTION:https://melbourneargonauts.com.au/event-353059\n\nRowing Victoria in conjunction with WCSN are proud to present Melbourne Rowing Week.\n \nMelbourne will host a week dedicated to the sport of rowing\, with the CBD location of the Yarra River making it the perfect place to invite professionals and beginners to take up oars.\n \n Details to nearer the time.\n  http://www.rowingvictoria.asn.au/\n
DTSTAMP:20260424T184458Z
END:VEVENT
END:VCALENDAR
