BEGIN:VCALENDAR
VERSION:2.0
METHOD:PUBLISH
BEGIN:VEVENT
UID:WILD_APRICOT_EVENT_1986863_SESSION_1
DTSTART:20140905T090000Z
DTEND:20140907T050000Z
SUMMARY:Camp Camp 2014
LOCATION:Nagambie
DESCRIPTION:https://melbourneargonauts.com.au/event-1986863\n\n   Camp Camp 2014 (2015)      Nagambie Lakes Regatta Centre       Register now for this fun weekend away with your fellow Argos\, and regroup as a club after the winter hibernation. (for those us who stopped training)       This year the cost has been set at the same as last year and as always there are limited spaces available. The Nagambie Caravan Park will be our base again\, so get in early to secure your room.        On-water participant: $190\n   Off-water (only) participant: $170\n      Register NOW!!  
DTSTAMP:20260424T171524Z
END:VEVENT
END:VCALENDAR
