BEGIN:VCALENDAR
VERSION:2.0
METHOD:PUBLISH
BEGIN:VEVENT
UID:WILD_APRICOT_EVENT_1825634_SESSION_1
DTSTART:20150128T073000Z
DTEND:20150128T093000Z
SUMMARY:Introduction to Coxing Course
LOCATION:The Fox on Montague\, 355 Park St\, South Melbourne VIC 3205
DESCRIPTION:https://melbourneargonauts.com.au/event-1825634\n\nTo support our colleagues\, the Argos encourage all members to attain their coxing accreditation.\n \n This two hour seminar\, presented by Andrew O'Brien from Rowing Victoria is the first of a two stage process for getting your coxswain accreditation.\n \n After attending this seminar\, you will need to complete a (simple) online assessment.\n \n Total cost is $30. Please accept this appointment (or the appointment on the Argo Website)\, so we know numbers.\n \n Questions: benjamin.ratcliffe@gmail.com / 0425 707 519  \n\n
DTSTAMP:20260424T172721Z
END:VEVENT
END:VCALENDAR
