BEGIN:VCALENDAR
VERSION:2.0
METHOD:PUBLISH
BEGIN:VEVENT
UID:WILD_APRICOT_EVENT_1799981_SESSION_1
DTSTART:20141121T130000Z
DTEND:20141122T130000Z
SUMMARY:Melbourne Head [CLUB]
LOCATION:Yarra River\, Melbourne
DESCRIPTION:https://melbourneargonauts.com.au/event-1799981\n\n\nRegistering for a Regatta [Members Only]\n      * Review 'Get Regatta Ready' \n\n        * Let the Captain know that you would like to enter.  The Captain will coordinate boats and equipment\n\n        * Regatta Fees: Pay your Oar (per event) and Transport fees by registering for this event\n\n   You can find details on this regatta here: http://www.melbournehead.org/\n  If you have any questions contact the Regatta Secretary or the Captain.\n  \nLocation for Members & Supporters\n     \n   View Melbourne Argonauts Rowing Club in a larger map\n 
DTSTAMP:20260424T184102Z
END:VEVENT
END:VCALENDAR
