BEGIN:VCALENDAR
VERSION:2.0
METHOD:PUBLISH
BEGIN:VEVENT
UID:WILD_APRICOT_EVENT_1759014_SESSION_1
DTSTART:20141025T073000Z
DTEND:20141025T113000Z
SUMMARY:Trivia Night 2014
LOCATION:St Kilda Town Hall\, 99A Carlisle St\, St Kilda (cnr. Carlisle St & Brighton Road (St. Kilda Road))
DESCRIPTION:https://melbourneargonauts.com.au/event-1759014\n\n\n\n      \n\n\n    \nThe Event\n\n  The Melbourne Argonauts Rowing Club (MARC) will be hosting its annual fundraising Trivia Night at St. Kilda Town Hall on September 12th 2015.\n  \nBooking\nHit the 'Register' button on the left of the screen and follow the prompts to book.\n \n Let us know the size of your group (1 - 100) and we will book you a table(s).\n  \nWhen do I pay?\nJust turn up and pay your $25.00 cash per person on the night (your confirmation email is your ticket). Forward the email to your guests so we can send them to the right table.\n \n As well as the main trivia night (hosted by our very own Brian Barry) there will be spot prizes\, games and a silent auction.\n  \nFood & Drink\nIt is BYO finger food (there is the Presidents Prize for the best platter).\n \n A cash bar is available\, so no BYO alcohol/drinks please. Free water will be provided.\n    \nBecome a Sponsor\n\n  And Contact Us if you are interested in becoming a sponsor and providing a prize for the night.\n  &amp\;lt\;font face="Verdana"&amp\;gt\;&amp\;amp\;amp\;lt\;font face="Verdana"&amp\;amp\;amp\;gt\;&amp\;amp\;amp\;amp\;amp\;amp\;lt\;font face="Verdana"&amp\;amp\;amp\;amp\;amp\;amp\;gt\;&amp\;amp\;amp\;amp\;amp\;amp\;amp\;amp\;amp\;lt\;font face="Verdana"&amp\;amp\;amp\;amp\;amp\;amp\;amp\;amp\;amp\;gt\;&amp\;amp\;amp\;amp\;amp\;amp\;amp\;amp\;amp\;amp\;amp\;amp\;amp\;lt\;font face="Verdana"&amp\;amp\;amp\;amp\;amp\;amp\;amp\;amp\;amp\;amp\;amp\;amp\;amp\;gt\;&amp\;amp\;amp\;amp\;amp\;amp\;amp\;amp\;amp\;amp\;amp\;amp\;amp\;amp\;amp\;amp\;amp\;lt\;br&amp\;amp\;amp\;amp\;amp\;amp\;amp\;amp\;amp\;amp\;amp\;amp\;amp\;amp\;amp\;amp\;amp\;gt\; &amp\;amp\;amp\;amp\;amp\;amp\;amp\;amp\;amp\;amp\;amp\;amp\;amp\;amp\;amp\;amp\;amp\;lt\;small&amp\;amp\;amp\;amp\;amp\;amp\;amp\;amp\;amp\;amp\;amp\;amp\;amp\;amp\;amp\;amp\;amp\;gt\;View &amp\;amp\;amp\;amp\;amp\;amp\;amp\;amp\;amp\;amp\;amp\;amp\;amp\;amp\;amp\;amp\;amp\;lt\;a href="https://maps.google.com/maps/ms?msid=206048129513180027772.00044365aac217cbe0eab&amp\;amp\;amp\;amp\;amp\;amp\;amp\;amp\;amp\;amp\;amp\;amp\;amp\;amp\;amp\;amp\;amp\;amp\;amp\;msa=0&amp\;amp\;amp\;amp\;amp\;amp\;amp\;amp\;amp\;amp\;amp\;amp\;amp\;amp\;amp\;amp\;amp\;amp\;amp\;ie=UTF8&amp\;amp\;amp\;amp\;amp\;amp\;amp\;amp\;amp\;amp\;amp\;amp\;amp\;amp\;amp\;amp\;amp\;amp\;amp\;t=m&amp\;amp\;amp\;amp\;amp\;amp\;amp\;amp\;amp\;amp\;amp\;amp\;amp\;amp\;amp\;amp\;amp\;amp\;amp\;ll=-37.863911\,144.988461&amp\;amp\;amp\;amp\;amp\;amp\;amp\;amp\;amp\;amp\;amp\;amp\;amp\;amp\;amp\;amp\;amp\;amp\;amp\;spn=0.011858\,0.018239&amp\;amp\;amp\;amp\;amp\;amp\;amp\;amp\;amp\;amp\;amp\;amp\;amp\;amp\;amp\;amp\;amp\;amp\;amp\;z=15&amp\;amp\;amp\;amp\;amp\;amp\;amp\;amp\;amp\;amp\;amp\;amp\;amp\;amp\;amp\;amp\;amp\;amp\;amp\;iwloc=000467e6c40963b26c904&amp\;amp\;amp\;amp\;amp\;amp\;amp\;amp\;amp\;amp\;amp\;amp\;amp\;amp\;amp\;amp\;amp\;amp\;amp\;source=embed" style="color:#0000FF\;text-align:left"&amp\;amp\;amp\;amp\;amp\;amp\;amp\;amp\;amp\;amp\;amp\;amp\;amp\;amp\;amp\;amp\;amp\;amp\;gt\;Melbourne Argonauts Rowing Club&amp\;amp\;amp\;amp\;amp\;amp\;amp\;amp\;amp\;amp\;amp\;amp\;amp\;amp\;amp\;amp\;amp\;amp\;lt\;/a&amp\;amp\;amp\;amp\;amp\;amp\;amp\;amp\;amp\;amp\;amp\;amp\;amp\;amp\;amp\;amp\;amp\;amp\;gt\; in a larger map&amp\;amp\;amp\;amp\;amp\;amp\;amp\;amp\;amp\;amp\;amp\;amp\;amp\;amp\;amp\;amp\;amp\;amp\;lt\;/small&amp\;amp\;amp\;amp\;amp\;amp\;amp\;amp\;amp\;amp\;amp\;amp\;amp\;amp\;amp\;amp\;amp\;amp\;gt\;&amp\;amp\;amp\;amp\;amp\;amp\;amp\;amp\;amp\;amp\;amp\;amp\;amp\;amp\;amp\;amp\;amp\;amp\;lt\;br&amp\;amp\;amp\;amp\;amp\;amp\;amp\;amp\;amp\;amp\;amp\;amp\;amp\;amp\;amp\;amp\;amp\;amp\;gt\;&amp\;amp\;amp\;amp\;amp\;amp\;amp\;amp\;amp\;amp\;amp\;amp\;amp\;amp\;lt\;/font&amp\;amp\;amp\;amp\;amp\;amp\;amp\;amp\;amp\;amp\;amp\;amp\;amp\;amp\;gt\;&amp\;amp\;amp\;amp\;amp\;amp\;amp\;amp\;amp\;amp\;lt\;/font&amp\;amp\;amp\;amp\;amp\;amp\;amp\;amp\;amp\;amp\;gt\;&amp\;amp\;amp\;amp\;amp\;amp\;amp\;lt\;/font&amp\;amp\;amp\;amp\;amp\;amp\;amp\;gt\;&amp\;amp\;amp\;amp\;lt\;/font&amp\;amp\;amp\;amp\;gt\;&amp\;lt\;/font&amp\;gt\;\n      
DTSTAMP:20260424T172026Z
END:VEVENT
END:VCALENDAR
