BEGIN:VCALENDAR
VERSION:2.0
METHOD:PUBLISH
BEGIN:VEVENT
UID:WILD_APRICOT_EVENT_1749944_SESSION_1
DTSTART:20140920T020000Z
DTEND:20140920T030000Z
SUMMARY:A double christening
LOCATION:Albert Park Lake\, Albert Park
DESCRIPTION:https://melbourneargonauts.com.au/event-1749944\n\n   \nA double christening\, otherwise known as - Boat Naming Ceremony\n\nFinally after much waiting\, a date has been set for the naming of our new boats        \n      Mark it in your diaries now\, Saturday September 20\,\n \n This will be a low key event for members of the club to be held after maintenance day. We will then proceed on to the Great Provider for the usual Brunch/Coffee.      \n      I encourage all Argonauts to come down to the shed to help celebrate this very special even.      \n      Hope to see you all there. 
DTSTAMP:20260424T190222Z
END:VEVENT
END:VCALENDAR
