BEGIN:VCALENDAR
VERSION:2.0
METHOD:PUBLISH
BEGIN:VEVENT
UID:WILD_APRICOT_EVENT_1749943_SESSION_1
DTSTART:20141203T080000Z
DTEND:20141203T093000Z
SUMMARY:Argo Connect
LOCATION:The Fox on Montague\, 335 Park Street South Melbourne.
DESCRIPTION:https://melbourneargonauts.com.au/event-1749943\n\nWith the silly season about to commence\, and the head races over\, this is your chance to come together and find out whats happening in 2015\, in terms of rowing\, racing and social\n  This is a chance for all Argos to get together and hear from Coaches & committee Members about the upcoming events and regattas in the new year\, \n  Please note the venue\nThe Fox On Montague\,   355 Park Street\n  South Melbourne\, \n  \n\n  If you would like to add anything to the agenda please contact James Wong \n\n  \n\n
DTSTAMP:20260424T183042Z
END:VEVENT
END:VCALENDAR
