BEGIN:VCALENDAR
VERSION:2.0
METHOD:PUBLISH
BEGIN:VEVENT
UID:WILD_APRICOT_EVENT_1749941_SESSION_1
DTSTART:20141015T080000Z
DTEND:20141015T093000Z
SUMMARY:Argo Connect
LOCATION:tba
DESCRIPTION:https://melbourneargonauts.com.au/event-1749941\n\nWith the season about to commence\, this is your chance to come together and find out whats happening this year\, in terms of rowing\, racing and social\n  This is a chance for all Argos to get together and hear from Coaches & committee Members about the season.\n\nPlease note the new venue\n THE FOX ON MONTAGUE  355 Park Street\, South Melbourne\, VIC 3205\n  Meeting starts 7pm with our host VP James \n  Drop in earlier for pre-meeting dinner (which i have been told the food is good)\n  If you would like to add anything to the agenda please contact James Wong \n\n  \n\n
DTSTAMP:20260424T170243Z
END:VEVENT
END:VCALENDAR
