BEGIN:VCALENDAR
VERSION:2.0
METHOD:PUBLISH
BEGIN:VEVENT
UID:WILD_APRICOT_EVENT_1749939_SESSION_1
DTSTART:20141007T071500Z
DTEND:20150324T083000Z
SUMMARY:Twilight Training
LOCATION:The Shed\, Lord Somers & Power House Function Centre\, 34 Lakeside Drive Albert Park Reserve\, VIC 3206
DESCRIPTION:https://melbourneargonauts.com.au/event-1749939\n\n\nTwilight Training\n     The aim of Twilight Training is to give everyone access to a coached training session at least once a week\, with emphasis on technique and club development.      \n   Please be at the shed\, changed and ready to warm up at 6:15pm. The aim is to be on the water and pushing off by 6:30pm.\n  \nWhat happens if the weather is looking bad?\n     Sessions will go on regardless and will move indoors on to the ergos in the event of bad weather\,       \n      Twiglight Training will run through to the end of day light savings\, 31st March 2015 
DTSTAMP:20260424T171418Z
END:VEVENT
END:VCALENDAR
