BEGIN:VCALENDAR
VERSION:2.0
METHOD:PUBLISH
BEGIN:VEVENT
UID:WILD_APRICOT_EVENT_1749935_SESSION_1
DTSTART:20150209T080000Z
DTEND:20150209T103000Z
SUMMARY:February Committee meeting
LOCATION:tbc
DESCRIPTION:https://melbourneargonauts.com.au/event-1749935\n\n\n  \nFebruary Committee Meeting\n  On the second Monday of each month your friendly committee bunkers down for 2.5 hours and discusses how to run the fabulous club that is the Argonauts!\n  If you would like to know how your club is run\, why certain decisions are made or have an input on any topics\, please contact your local committee member to find out where we will be holding it this month.\n\n
DTSTAMP:20260424T163636Z
END:VEVENT
END:VCALENDAR
