BEGIN:VCALENDAR
VERSION:2.0
METHOD:PUBLISH
BEGIN:VEVENT
UID:WILD_APRICOT_EVENT_1749931_SESSION_1
DTSTART:20141208T080000Z
DTEND:20141208T103000Z
SUMMARY:December Committee/Coaches meeting
LOCATION:tbc
DESCRIPTION:https://melbourneargonauts.com.au/event-1749931\n\n\nCommittee and Coaches Meetings\n  On the second Monday of September\, December and March your friendly committee  and coaches get together for 2.5 hours and discusses how to run the fabulous club that is the Argonauts!\n  If you would like to know how your club is run\, why certain decisions are made or have an input on any topics\, please contact your local committee member to find out where we will be holding it this month.\n\n
DTSTAMP:20260424T171903Z
END:VEVENT
END:VCALENDAR
