BEGIN:VCALENDAR
VERSION:2.0
METHOD:PUBLISH
BEGIN:VEVENT
UID:WILD_APRICOT_EVENT_1749923_SESSION_1
DTSTART:20150201T010000Z
DTEND:20150201T010000Z
SUMMARY:Annual Pride March 2015
LOCATION:Catani Gardens\, Beaconsfield Parade\, St Kilda
DESCRIPTION:https://melbourneargonauts.com.au/event-1749923\n\nPride March Victoria\, proud member of the global Interpride\, presents the annual Pride March.\n   \n Pride March Victoria is a free event which recognises and celebrates the people and events that inspire the courage\, solidarity\, pride\, diversity and strong sense of community of Victoria’s GLBTIQ people and our supporters.\n  \n Please note this year Pride March Victoria’s celebrations in Catani Gardens is a no BYO event.\n\n  Venue: Catani Gardens\n When: Sun 7 Feb\, Assemble - 12pm\, March - 2pm (tbc)\n Price: Free\n Info: www.pridemarch.com.au\n\n
DTSTAMP:20260424T171939Z
END:VEVENT
END:VCALENDAR
