BEGIN:VCALENDAR
VERSION:2.0
METHOD:PUBLISH
BEGIN:VEVENT
UID:WILD_APRICOT_EVENT_1749922_SESSION_1
DTSTART:20141128T130000Z
DTEND:20141129T130000Z
SUMMARY:Head of the Yarra [CLUB REGATTA]
LOCATION:Yarra River\, Melbourne
DESCRIPTION:https://melbourneargonauts.com.au/event-1749922\n\nThe Head of the Yarra is held annually on the last Saturday of November.\n  Are you up for the gruelling 8.6km rowing challenge upstream from the heart of Melbourne winding up the Yarra River to Hawthorn?\n  \nRegistering for a Regatta [Members Only]\n      * Go to www.headoftheyarra.com for the latest info.\n\n        * Review 'Get Regatta Ready' \n\n        * Let the Captain know that you would like to enter.  The Captain will coordinate boats and equipment\n\n        * Pay your Regatta Fees. Pay your Oar (per event) and Transport fees by registering for this event\n\n   \n\n  If you have any questions contact the Regatta Secretary or the Captain.\n
DTSTAMP:20260424T185947Z
END:VEVENT
END:VCALENDAR
