BEGIN:VCALENDAR
VERSION:2.0
METHOD:PUBLISH
BEGIN:VEVENT
UID:WILD_APRICOT_EVENT_1749914_SESSION_1
DTSTART:20140920T000000Z
DTEND:20140920T020000Z
SUMMARY:Maintenance Day
LOCATION:The Shed\, Albert Park Lake
DESCRIPTION:https://melbourneargonauts.com.au/event-1749914\n\nIn preparation for the new regatta season it is time to spring clean the boats and get them ready for the regatta season.\n  \nWE NEED AS MANY MEMBERS AS POSSIBLE TO HELP OUT\n  WHAT WILL WE BE DOING:\n  Cleaning the boats inside and out\;\n      * De-rigging and re-rigging the boats (making sure the bolts are consistent through out)\;\n\n        * Sorting through the spare parts\;\n\n        * Getting the toolbox ready to take away to regattas\;\n\n        * Cleaning up the oars\;\n\n        * Making sure we have all the ties necessary to put the boats on the trailer\; and\n\n        * Arranging the new storage area\n\n  Once the hard work has been done\, we will have another very special event take place - a Double Christening. \n  Maintenance jobs will be assigned on the day\, so just find Andrew or Steve and we will find you something to do.\n\n
DTSTAMP:20260424T190707Z
END:VEVENT
END:VCALENDAR
