BEGIN:VCALENDAR
VERSION:2.0
METHOD:PUBLISH
BEGIN:VEVENT
UID:WILD_APRICOT_EVENT_1722524_SESSION_1
DTSTART:20140726T000000Z
DTEND:20140726T000000Z
SUMMARY:Splash & Giggle
LOCATION:(Lake-side) Lord Somers & Power House Function Centre\, 34 Lakeside Drive\, Albert Park Reserve\, Victoria 3206
DESCRIPTION:https://melbourneargonauts.com.au/event-1722524\n\n\nHave you ever wanted to give rowing a try? \n  Well\, here’s your chance! \n  Come and join Melbourne Argonauts Queer Rowing Club for a morning of rowing on Albert Park Lake.\n  No experience required\, just comfortable exercise clothes and a willingness to get a little damp!\n  \nCost\n  $15.00\n  \nQuestions?\n  [Contact Us]\n  \nVenue\n  Lord Somers & Power House Function Centre\n 34 Lakeside Drive\n Albert Park Reserve\, Victoria 3206\n  [Melways Reference 58 A6]\n  \n View Melbourne Argonauts Rowing Club in a larger map\n
DTSTAMP:20260424T170615Z
END:VEVENT
END:VCALENDAR
