BEGIN:VCALENDAR
VERSION:2.0
METHOD:PUBLISH
BEGIN:VEVENT
UID:WILD_APRICOT_EVENT_1720862_SESSION_1
DTSTART:20140731T093000Z
DTEND:20140925T103000Z
SUMMARY:Ergfit classess for World Masters Rowing Championships
LOCATION:Ergfit 44 The Blvd\, Moonee Ponds VIC 3039
DESCRIPTION:https://melbourneargonauts.com.au/event-1720862\n\n\nErgfit preparation for WORLD Masters Rowing Championships! \n     Ergft are offering the Melbourne Argonauts 8-10 erg sessions leading up to the World Masters Rowing Championships\n   \n   Commencing on Thursday 31st July @7:30pm\, for 8 consecutive weeks until Thursday 18th September or Thursday 2nd October\, for the 10 week plan\, for $132 for the 8 sessions or $165 for the 10 sessions.\n   \n   We need a minimum of 8 participants to pre-pay for the 8 or 10 sessions.\n   Full payment is required prior to the commencement of your group classes.\n   \n   Payment can be made by way of cash\, EFTpos or credit card at ERGfit or direct deposit into ERGfit bank account\n   BSB 633 000\n   Account 1277 30935\n   Please include your name in the reference section.\n   \n   Training will be more specific with race preparation\, time trials and bodyweight rowing specific exercises to do similar to what we did for your preparation for the Antwerp Games\, with technique - skills and drills\, aerobic conditioning\, core conditioning\, high intensity fitness testing (maximal over 100 metres\, 500 metre sprints and 1km racing) or a combination of the above\n   \n   Any questions please ask: andrewmortiss@hotmail.com\n   \n\n\n
DTSTAMP:20260424T170539Z
END:VEVENT
END:VCALENDAR
