BEGIN:VCALENDAR
VERSION:2.0
METHOD:PUBLISH
BEGIN:VEVENT
UID:WILD_APRICOT_EVENT_1707825_SESSION_1
DTSTART:20140617T090000Z
DTEND:20140715T103000Z
SUMMARY:Winter Pilates
LOCATION:Nu Pilates 115 Dundas Lane Albert Park
DESCRIPTION:https://melbourneargonauts.com.au/event-1707825\n\n\nWinter Pilates\n     \n   \nStarting on Tuesday 17th June Paul will run a Pilates class based on the Reformer Bed\n     \n      This is a 5 week course which will help strengthen your core.      \n      5 weeks for $150.00      \n      \n      \n      \n      \n      \n      Only 8 seats available.      \n      \n      Any questions\, please contact Jeff Soares 
DTSTAMP:20260424T163540Z
END:VEVENT
END:VCALENDAR
